BEGIN:VCALENDAR
VERSION:2.0
PRODID:-//DAV - ECPv6.15.20//NONSGML v1.0//EN
CALSCALE:GREGORIAN
METHOD:PUBLISH
X-ORIGINAL-URL:https://alpenverein-baden-baden.de
X-WR-CALDESC:Veranstaltungen für DAV
REFRESH-INTERVAL;VALUE=DURATION:PT1H
X-Robots-Tag:noindex
X-PUBLISHED-TTL:PT1H
BEGIN:VTIMEZONE
TZID:Europe/Berlin
BEGIN:DAYLIGHT
TZOFFSETFROM:+0100
TZOFFSETTO:+0200
TZNAME:CEST
DTSTART:20250330T010000
END:DAYLIGHT
BEGIN:STANDARD
TZOFFSETFROM:+0200
TZOFFSETTO:+0100
TZNAME:CET
DTSTART:20251026T010000
END:STANDARD
BEGIN:DAYLIGHT
TZOFFSETFROM:+0100
TZOFFSETTO:+0200
TZNAME:CEST
DTSTART:20260329T010000
END:DAYLIGHT
BEGIN:STANDARD
TZOFFSETFROM:+0200
TZOFFSETTO:+0100
TZNAME:CET
DTSTART:20261025T010000
END:STANDARD
BEGIN:DAYLIGHT
TZOFFSETFROM:+0100
TZOFFSETTO:+0200
TZNAME:CEST
DTSTART:20270328T010000
END:DAYLIGHT
BEGIN:STANDARD
TZOFFSETFROM:+0200
TZOFFSETTO:+0100
TZNAME:CET
DTSTART:20271031T010000
END:STANDARD
END:VTIMEZONE
BEGIN:VEVENT
DTSTART;VALUE=DATE:20260424
DTEND;VALUE=DATE:20260427
DTSTAMP:20260424T122724
CREATED:20251220T201131Z
LAST-MODIFIED:20251220T201131Z
UID:17522-1776988800-1777247999@alpenverein-baden-baden.de
SUMMARY:Outdoor-Schein
DESCRIPTION:Outdoor-Schein \nFr. 24.04. – So. 26.04.2026 Outdoor-Schein\nKursort: Klettergebiet Grafensprung\nInhalt: Vorstieg im Fels\, Umlenken\, Abseilen\, Umwelt\nAusbildungsziel: Selbständiges Klettern von Sportkletterrouten im Fels\nVoraussetzung: Vorstiegs-Schein\, sicheres Klettern im 4. und 5. Grad. \nAusrüstung: Seil\, Exen\, Steinschlaghelm\nTeilnehmer: max. 6 Personen\nAnmeldefrist 01.04.2026\nKursgebühr: 100 €\nLeitung: Hans-Jürgen Reiter\, hjreiter@gmx.de
URL:https://alpenverein-baden-baden.de/event/outdoor-schein/
CATEGORIES:Ausbildung Outdoor
END:VEVENT
BEGIN:VEVENT
DTSTART;VALUE=DATE:20260425
DTEND;VALUE=DATE:20260503
DTSTAMP:20260424T122724
CREATED:20251221T160216Z
LAST-MODIFIED:20251221T160216Z
UID:17619-1777075200-1777766399@alpenverein-baden-baden.de
SUMMARY:Biken  (Mountainbike) - MTB-Ausfahrt nach Finale Ligure
DESCRIPTION:Fr. 25.04. – Sa. 02.05.2026 (Italien)\nAnforderung: Kondition mittel\, Fahrtechnik S1 – S2+\, selten S3 (schwierige Abschnitte fahrbar)\nHöhendifferenz: max. 1000 Hm / Tag (Shuttle-Service)\nFahrzeit: täglich geführte Touren mit Einkehr\nTreffpunkt: nach Absprache \nTeilnehmer: min. 3\, max. 9 Personen\nAnmeldeschluss: 31.12.2025\nKosten: 210 € für Guiding & Shuttle (6 Tage)\nArt: Ausfahrt\nOrganisation: Stefan Scheurer\, info@stefan-scheurer.de
URL:https://alpenverein-baden-baden.de/event/ausbildung-outdoor-ausbildungstour-in-den-zillertaler-alpen-mit-lvs-kurs-2-2-3-2-2-2-3-2-2-2-2-2-2-2-2-2-2-3-3-2-4-2-2-3/
CATEGORIES:Biken,Gemeinschaftstour
END:VEVENT
BEGIN:VEVENT
DTSTART;VALUE=DATE:20260425
DTEND;VALUE=DATE:20260426
DTSTAMP:20260424T122724
CREATED:20251220T180001Z
LAST-MODIFIED:20251220T195145Z
UID:17483-1777075200-1777161599@alpenverein-baden-baden.de
SUMMARY:Bergrettung für Alpinkletterer
DESCRIPTION:Sa. 25.04.2026  Bergrettung für Alpinkletterer\nErsatztermin: Sa. 23.06.2026\nUhrzeit: 9:30 – 17:00 Uhr\nKursort: Bergwachthütte Battert\nInhalt: Grundlagen der Rettung aus Klettergelände mit Standardausrüstung und Micro Traxion;\nAusbildungsziel: Behelfsmäßige Bergrettung selbständig anwenden\nVoraussetzung: Grundkenntnisse Alpin-Klettern\nAusrüstung: Kletterausrüstung\nTeilnahmerzahl: min. 3\, max. 6 Personen\nAnmeldefrist: 20.04.2026\nKurgebühr: 40 €\nLeitung: Karin Sänger\, alpinklettern@web.de\, 07841-665407 \n 
URL:https://alpenverein-baden-baden.de/event/ausbildung-outdoor-einfuehrung-in-die-bergwetterkunde/
CATEGORIES:Ausbildung Outdoor
END:VEVENT
BEGIN:VEVENT
DTSTART;VALUE=DATE:20260425
DTEND;VALUE=DATE:20260426
DTSTAMP:20260424T122724
CREATED:20251221T101005Z
LAST-MODIFIED:20251221T101005Z
UID:17527-1777075200-1777161599@alpenverein-baden-baden.de
SUMMARY:Spaltenbergung
DESCRIPTION:Sa. 25.04.2026 Spaltenbergung\nUhrzeit:   8:30 – 17:00 Uhr\nKursort: B 500\, Sand\, an der Bergwachthütte\nInhalt:  Spaltenbergung in der Dreierseilschaft und Selbstrettung; möglicher Einsatz von Seilrolle mit Rücklaufsperre und Seilklemme\nAusbildungsziel: Sicheres Beherrschen aller Seilschafts-Positionen zur Spaltenbergung mit Basisausrüstung; möglicher Einsatz von\nZusatzmaterial\nVoraussetzung:\nTeilnehmer: max. 9 Personen\nAnmeldefrist: 09.04.2026\nKursgebühr: 40 €\nLeitung: Karl Weidinger\, kalle.weidinger@web.de \n 
URL:https://alpenverein-baden-baden.de/event/ausbildung-outdoor-einfuehrung-in-die-bergwetterkunde-2/
CATEGORIES:Ausbildung Outdoor
END:VEVENT
BEGIN:VEVENT
DTSTART;VALUE=DATE:20260426
DTEND;VALUE=DATE:20260427
DTSTAMP:20260424T122724
CREATED:20251221T102147Z
LAST-MODIFIED:20251221T102147Z
UID:17530-1777161600-1777247999@alpenverein-baden-baden.de
SUMMARY:Aufbaukurs am Battert
DESCRIPTION:So. 26.04.2026 Aufbaukurs am Battert\n(Vertiefung mobile Sicherungsgeräte)\nErsatztermin: Sa. 09.05.2026\nKursort: Battert\nInhalt: Legen\, Beurteilen und Belastungstests von mobilen Sicherungsmitteln\nAusbildungsziel: Selbständiges Vorsteigen mit mobilen Sicherungsmitteln\nVoraussetzung: Kletterschein Outdoor oder Vorstiegs-Erfahrung in gut gesicherten Sportkletterrouten; keine Vorkenntnisse mit\nKeilen oder Friends erforderlich\nAusrüstung: Detaillierte Liste wird den Teilnehmern zugesandt\nTeilnehmer: min. 6\, max. 10 Personen\nAnmeldefrist: 06.04.2026\nKursgebühr: 80 €\nLeitung: Reiner Gerstenberger\, bergsteigen@dav-bad.de\, 0170-9240899\nDietmar Muser\, muserdi@gmx.de\, 07243-219467
URL:https://alpenverein-baden-baden.de/event/ausbildung-outdoor-einfuehrung-in-die-bergwetterkunde-2-2/
CATEGORIES:Ausbildung Outdoor
END:VEVENT
BEGIN:VEVENT
DTSTART;TZID=Europe/Berlin:20260426T130000
DTEND;TZID=Europe/Berlin:20260426T150000
DTSTAMP:20260424T122724
CREATED:20260114T112458Z
LAST-MODIFIED:20260114T112458Z
UID:17838-1777208400-1777215600@alpenverein-baden-baden.de
SUMMARY:Schnupperkurs
DESCRIPTION:Anmeldung erforderlich! \nAnmeldung über das Kursbuchungssystem der Homepage oder über kurse@alpenverein-baden-baden.de
URL:https://alpenverein-baden-baden.de/event/schnupperkurs-10/
END:VEVENT
BEGIN:VEVENT
DTSTART;TZID=Europe/Berlin:20260427T174500
DTEND;TZID=Europe/Berlin:20260427T214500
DTSTAMP:20260424T122724
CREATED:20260218T083934Z
LAST-MODIFIED:20260218T083934Z
UID:18049-1777311900-1777326300@alpenverein-baden-baden.de
SUMMARY:Topropekurs Teil 1
DESCRIPTION:Topropekurs am 27.04. Teil 1 & am 29.04.26 Teil 2 jeweils von 17:45 bis 21:45 \nDer Basiskurs für Klettereinsteiger\nDer Kurs vermittelt die notwendige Sicherungskompetenz sowie Basisklettertechniken\, um sowohl Toprope sichern als auch klettern zu können. Nach erfolgreicher Durchführung erhalten die Teilnehmer einen Nachweis\, der sie auch zum Besuch in anderen Kletterhallen berechtigt. \nVorraussetzung: mindestens 14 Jahre\nKosten: 85€ für Sektionsmitglieder und 105€ für Nichtmitglieder \nAnmeldung ausschließlich über unser Kursbuchungssystem der Homepage https://alpenverein-baden-baden.de/kletterzentrum/hallenkurse/\noder per mail an kurse@alpenverein-baden-baden.de
URL:https://alpenverein-baden-baden.de/event/topropekurs-teil-1-4/
END:VEVENT
BEGIN:VEVENT
DTSTART;TZID=Europe/Berlin:20260428T000000
DTEND;TZID=Europe/Berlin:20260428T000000
DTSTAMP:20260424T122724
CREATED:20251222T151918Z
LAST-MODIFIED:20251222T153119Z
UID:17716-1777334400-1777334400@alpenverein-baden-baden.de
SUMMARY:Mitgliederversammlung
DESCRIPTION:
URL:https://alpenverein-baden-baden.de/event/aktiven-weinachtsfeier-2-2-3/
CATEGORIES:Vereinsleben
END:VEVENT
BEGIN:VEVENT
DTSTART;TZID=Europe/Berlin:20260428T190000
DTEND;TZID=Europe/Berlin:20260428T220000
DTSTAMP:20260424T122724
CREATED:20251222T150542Z
LAST-MODIFIED:20251222T150542Z
UID:17691-1777402800-1777413600@alpenverein-baden-baden.de
SUMMARY:Vorstandssitzung
DESCRIPTION:
URL:https://alpenverein-baden-baden.de/event/vorstandssitzung-duplicate-2-2-2-2-2-2-2-2-2-2-2-2-3-2/
LOCATION:Sektionszentrum\, Flugstr. 17\, Baden-Baden
CATEGORIES:Vorstand
END:VEVENT
BEGIN:VEVENT
DTSTART;TZID=Europe/Berlin:20260429T174500
DTEND;TZID=Europe/Berlin:20260429T214500
DTSTAMP:20260424T122724
CREATED:20260218T084033Z
LAST-MODIFIED:20260218T084033Z
UID:18052-1777484700-1777499100@alpenverein-baden-baden.de
SUMMARY:Topropekurs Teil 2
DESCRIPTION:Topropekurs am 27.04. Teil 1 & am 29.04.26 Teil 2 jeweils von 17:45 bis 21:45 \nDer Basiskurs für Klettereinsteiger\nDer Kurs vermittelt die notwendige Sicherungskompetenz sowie Basisklettertechniken\, um sowohl Toprope sichern als auch klettern zu können. Nach erfolgreicher Durchführung erhalten die Teilnehmer einen Nachweis\, der sie auch zum Besuch in anderen Kletterhallen berechtigt. \nVorraussetzung: mindestens 14 Jahre\nKosten: 85€ für Sektionsmitglieder und 105€ für Nichtmitglieder \nAnmeldung ausschließlich über unser Kursbuchungssystem der Homepage https://alpenverein-baden-baden.de/kletterzentrum/hallenkurse/\noder per mail an kurse@alpenverein-baden-baden.de
URL:https://alpenverein-baden-baden.de/event/topropekurs-teil-2-5/
END:VEVENT
END:VCALENDAR