BEGIN:VCALENDAR
VERSION:2.0
PRODID:-//DAV - ECPv6.15.20//NONSGML v1.0//EN
CALSCALE:GREGORIAN
METHOD:PUBLISH
X-WR-CALNAME:DAV
X-ORIGINAL-URL:https://alpenverein-baden-baden.de
X-WR-CALDESC:Veranstaltungen für DAV
REFRESH-INTERVAL;VALUE=DURATION:PT1H
X-Robots-Tag:noindex
X-PUBLISHED-TTL:PT1H
BEGIN:VTIMEZONE
TZID:Europe/Berlin
BEGIN:DAYLIGHT
TZOFFSETFROM:+0100
TZOFFSETTO:+0200
TZNAME:CEST
DTSTART:20240331T010000
END:DAYLIGHT
BEGIN:STANDARD
TZOFFSETFROM:+0200
TZOFFSETTO:+0100
TZNAME:CET
DTSTART:20241027T010000
END:STANDARD
BEGIN:DAYLIGHT
TZOFFSETFROM:+0100
TZOFFSETTO:+0200
TZNAME:CEST
DTSTART:20250330T010000
END:DAYLIGHT
BEGIN:STANDARD
TZOFFSETFROM:+0200
TZOFFSETTO:+0100
TZNAME:CET
DTSTART:20251026T010000
END:STANDARD
BEGIN:DAYLIGHT
TZOFFSETFROM:+0100
TZOFFSETTO:+0200
TZNAME:CEST
DTSTART:20260329T010000
END:DAYLIGHT
BEGIN:STANDARD
TZOFFSETFROM:+0200
TZOFFSETTO:+0100
TZNAME:CET
DTSTART:20261025T010000
END:STANDARD
END:VTIMEZONE
BEGIN:VEVENT
DTSTART;TZID=Europe/Berlin:20250314T090000
DTEND;TZID=Europe/Berlin:20250314T120000
DTSTAMP:20260420T055814
CREATED:20251221T153126Z
LAST-MODIFIED:20251221T153648Z
UID:17606-1741942800-1741953600@alpenverein-baden-baden.de
SUMMARY:RADTOUREN - (Mountainbike) Einsteigerrunde Fremersberg
DESCRIPTION:Sa\, 14.03.2026 Einsteigerrunde Fremersberg (Mountainbike)\nAnforderung: Kondition einfach\, Fahrtechnik S1.\nDiese Tour richtet sich an alle Neu- und Wiedereinsteiger.\nHöhendifferenz: 300 Hm / ca. 15 Km \nFahrzeit: ca. 2 – 3 Stunden\nTreffpunkt: 9:00 Uhr\, Cineplex Kino Baden Oos\,\nOrtenaustraße 14\, 76532 Baden-Baden\nTeilnehmer: max. 6 Personen\nAnmeldeschluss: 07.03.2026\nAnmeldegebühr: keine\nArt: Gemeinschaftstour\nOrganisation: Karsten Doering\, doering.karsten@arcor.de
URL:https://alpenverein-baden-baden.de/event/ausbildung-outdoor-ausbildungstour-in-den-zillertaler-alpen-mit-lvs-kurs-2-2-3-2-2-2-3-2-2-2-2-2-2-2-2-2-2-3-3-2-3-3/
CATEGORIES:Biken,Gemeinschaftstour
END:VEVENT
END:VCALENDAR