BEGIN:VCALENDAR
VERSION:2.0
PRODID:-//DAV - ECPv6.15.20//NONSGML v1.0//EN
CALSCALE:GREGORIAN
METHOD:PUBLISH
X-ORIGINAL-URL:https://alpenverein-baden-baden.de
X-WR-CALDESC:Veranstaltungen für DAV
REFRESH-INTERVAL;VALUE=DURATION:PT1H
X-Robots-Tag:noindex
X-PUBLISHED-TTL:PT1H
BEGIN:VTIMEZONE
TZID:Europe/Berlin
BEGIN:DAYLIGHT
TZOFFSETFROM:+0100
TZOFFSETTO:+0200
TZNAME:CEST
DTSTART:20240331T010000
END:DAYLIGHT
BEGIN:STANDARD
TZOFFSETFROM:+0200
TZOFFSETTO:+0100
TZNAME:CET
DTSTART:20241027T010000
END:STANDARD
BEGIN:DAYLIGHT
TZOFFSETFROM:+0100
TZOFFSETTO:+0200
TZNAME:CEST
DTSTART:20250330T010000
END:DAYLIGHT
BEGIN:STANDARD
TZOFFSETFROM:+0200
TZOFFSETTO:+0100
TZNAME:CET
DTSTART:20251026T010000
END:STANDARD
BEGIN:DAYLIGHT
TZOFFSETFROM:+0100
TZOFFSETTO:+0200
TZNAME:CEST
DTSTART:20260329T010000
END:DAYLIGHT
BEGIN:STANDARD
TZOFFSETFROM:+0200
TZOFFSETTO:+0100
TZNAME:CET
DTSTART:20261025T010000
END:STANDARD
END:VTIMEZONE
BEGIN:VEVENT
DTSTART;VALUE=DATE:20250804
DTEND;VALUE=DATE:20250810
DTSTAMP:20260424T123710
CREATED:20250707T181424Z
LAST-MODIFIED:20250707T181424Z
UID:16264-1754265600-1754783999@alpenverein-baden-baden.de
SUMMARY:MEHRTAGESWANDERUNG MITTELGEBIRGE - Klettersteige in der Pala-Gruppe
DESCRIPTION:Route: Gemeinschaftstour mit 6 Klettersteigen\nAnforderung: Geübte und erfahrene Klettersteiggeher\nSchwierigkeit: Gemeinschaftstour\, jeder Teilnehmer geht auf\neigene Verantwortung\nÜbernachtung: Lager in Hütten\nTeilnehmer: min. 3 TN\, max. 5 TN\nAnmeldeschluss: 30.06.2025\nAnmeldegebühr: 50 €\, bei Rolf Gassenschmidt\nOrganisation: Rolf Gassenschmidt\, Tel.: 07223 75682\,\nE-Mail: r.gassi@web.de
URL:https://alpenverein-baden-baden.de/event/ausbildung-outdoor-ausbildungstour-in-den-zillertaler-alpen-mit-lvs-kurs-2-2-3-2-3/
CATEGORIES:Bergwandern,Gemeinschaftstour,Klettern
END:VEVENT
END:VCALENDAR