BEGIN:VCALENDAR
VERSION:2.0
PRODID:-//DAV - ECPv6.15.20//NONSGML v1.0//EN
CALSCALE:GREGORIAN
METHOD:PUBLISH
X-ORIGINAL-URL:https://alpenverein-baden-baden.de
X-WR-CALDESC:Veranstaltungen für DAV
REFRESH-INTERVAL;VALUE=DURATION:PT1H
X-Robots-Tag:noindex
X-PUBLISHED-TTL:PT1H
BEGIN:VTIMEZONE
TZID:Europe/Berlin
BEGIN:DAYLIGHT
TZOFFSETFROM:+0100
TZOFFSETTO:+0200
TZNAME:CEST
DTSTART:20240331T010000
END:DAYLIGHT
BEGIN:STANDARD
TZOFFSETFROM:+0200
TZOFFSETTO:+0100
TZNAME:CET
DTSTART:20241027T010000
END:STANDARD
BEGIN:DAYLIGHT
TZOFFSETFROM:+0100
TZOFFSETTO:+0200
TZNAME:CEST
DTSTART:20250330T010000
END:DAYLIGHT
BEGIN:STANDARD
TZOFFSETFROM:+0200
TZOFFSETTO:+0100
TZNAME:CET
DTSTART:20251026T010000
END:STANDARD
BEGIN:DAYLIGHT
TZOFFSETFROM:+0100
TZOFFSETTO:+0200
TZNAME:CEST
DTSTART:20260329T010000
END:DAYLIGHT
BEGIN:STANDARD
TZOFFSETFROM:+0200
TZOFFSETTO:+0100
TZNAME:CET
DTSTART:20261025T010000
END:STANDARD
END:VTIMEZONE
BEGIN:VEVENT
DTSTART;VALUE=DATE:20250914
DTEND;VALUE=DATE:20250915
DTSTAMP:20260424T140415
CREATED:20250707T185258Z
LAST-MODIFIED:20250707T185427Z
UID:16292-1757808000-1757894399@alpenverein-baden-baden.de
SUMMARY:BERGWANDERN - Runde um Enzklösterle
DESCRIPTION:Route: Enzklösterle – Schöllkopf – Großer Hummelberg – Enzquelle – Süßenbergplateau – Enzklösterle\nSchwierigkeit: T1\nGehzeiten: 25 km\, 750 Hm\, 6\,5 Std.\nAnforderung: festes Schuhwerk\, Rucksackverpflegung\nTreffpunkt: 14.09.2025\, 9:30 Uhr\, Parkplatz Tourist-Info\nEnzklösterle\nAnfahrt: PKW-Fahrgemeinschaften\nTeilnehmer: min. 3 TN\, max. 12 TN/Wanderleiter\nAnmeldeschluss: 09.09.2025\nLeitung: Hartmut Thiel\, Tel.: 0175 1862985\, E-Mail:\nhartmut_thiel@hotmail.com
URL:https://alpenverein-baden-baden.de/event/ausbildung-outdoor-ausbildungstour-in-den-zillertaler-alpen-mit-lvs-kurs-2-2-3-2-2-2-3-2-2-2-2-2-2-2-2-2-2-3-2-3/
CATEGORIES:Bergwandern,Wandern
END:VEVENT
END:VCALENDAR