BEGIN:VCALENDAR
VERSION:2.0
PRODID:-//DAV - ECPv6.15.20//NONSGML v1.0//EN
CALSCALE:GREGORIAN
METHOD:PUBLISH
X-ORIGINAL-URL:https://alpenverein-baden-baden.de
X-WR-CALDESC:Veranstaltungen für DAV
REFRESH-INTERVAL;VALUE=DURATION:PT1H
X-Robots-Tag:noindex
X-PUBLISHED-TTL:PT1H
BEGIN:VTIMEZONE
TZID:Europe/Berlin
BEGIN:DAYLIGHT
TZOFFSETFROM:+0100
TZOFFSETTO:+0200
TZNAME:CEST
DTSTART:20240331T010000
END:DAYLIGHT
BEGIN:STANDARD
TZOFFSETFROM:+0200
TZOFFSETTO:+0100
TZNAME:CET
DTSTART:20241027T010000
END:STANDARD
BEGIN:DAYLIGHT
TZOFFSETFROM:+0100
TZOFFSETTO:+0200
TZNAME:CEST
DTSTART:20250330T010000
END:DAYLIGHT
BEGIN:STANDARD
TZOFFSETFROM:+0200
TZOFFSETTO:+0100
TZNAME:CET
DTSTART:20251026T010000
END:STANDARD
BEGIN:DAYLIGHT
TZOFFSETFROM:+0100
TZOFFSETTO:+0200
TZNAME:CEST
DTSTART:20260329T010000
END:DAYLIGHT
BEGIN:STANDARD
TZOFFSETFROM:+0200
TZOFFSETTO:+0100
TZNAME:CET
DTSTART:20261025T010000
END:STANDARD
END:VTIMEZONE
BEGIN:VEVENT
DTSTART;VALUE=DATE:20251004
DTEND;VALUE=DATE:20251005
DTSTAMP:20260424T140334
CREATED:20250716T150748Z
LAST-MODIFIED:20250716T150748Z
UID:16366-1759536000-1759622399@alpenverein-baden-baden.de
SUMMARY:BERGWANDERN - Weisenbacher Steig - rechts der Murg
DESCRIPTION:Route: Weisenbach – Schöllkopf – Beckenfelsen– Hohe Schaar – Katzenfelsen – idyllisches Latschigbachtal – Weisenbach\nSchwierigkeit: T1/T2\nGehzeiten: 18 km\, 700 Hm\, ca. 5 Std.\nAnforderung: festes Schuhwerk\, Trittsicherheit\, Rucksackverpflegung\nTreffpunkt: 04.10.25\, 09:30 Uhr\, Stadtbahnhaltestelle in Weisenbach\nAnfahrt: Öffentliche Verkehrsmittel oder/und PKW-Fahrgemeinschaften\nTeilnehmer: min. 3 TN\, max. 12 TN/Wanderleiter\nAnmeldeschluss: 30.09.2025\, Anmeldung bei Marianne Großklaus\nLeitung: Marianne Großklaus\, Tel.: 0172 2499995\,\nE-Mail: m.grossklaus@online.de
URL:https://alpenverein-baden-baden.de/event/ausbildung-outdoor-ausbildungstour-in-den-zillertaler-alpen-mit-lvs-kurs-2-2-3-2-2-2-3-2-2-2-2-2-2-2-2-2-2-3-2-2-2-2/
CATEGORIES:Bergwandern,Wandern
END:VEVENT
END:VCALENDAR