BEGIN:VCALENDAR
VERSION:2.0
PRODID:-//DAV - ECPv6.15.20//NONSGML v1.0//EN
CALSCALE:GREGORIAN
METHOD:PUBLISH
X-WR-CALNAME:DAV
X-ORIGINAL-URL:https://alpenverein-baden-baden.de
X-WR-CALDESC:Veranstaltungen für DAV
REFRESH-INTERVAL;VALUE=DURATION:PT1H
X-Robots-Tag:noindex
X-PUBLISHED-TTL:PT1H
BEGIN:VTIMEZONE
TZID:Europe/Berlin
BEGIN:DAYLIGHT
TZOFFSETFROM:+0100
TZOFFSETTO:+0200
TZNAME:CEST
DTSTART:20240331T010000
END:DAYLIGHT
BEGIN:STANDARD
TZOFFSETFROM:+0200
TZOFFSETTO:+0100
TZNAME:CET
DTSTART:20241027T010000
END:STANDARD
BEGIN:DAYLIGHT
TZOFFSETFROM:+0100
TZOFFSETTO:+0200
TZNAME:CEST
DTSTART:20250330T010000
END:DAYLIGHT
BEGIN:STANDARD
TZOFFSETFROM:+0200
TZOFFSETTO:+0100
TZNAME:CET
DTSTART:20251026T010000
END:STANDARD
BEGIN:DAYLIGHT
TZOFFSETFROM:+0100
TZOFFSETTO:+0200
TZNAME:CEST
DTSTART:20260329T010000
END:DAYLIGHT
BEGIN:STANDARD
TZOFFSETFROM:+0200
TZOFFSETTO:+0100
TZNAME:CET
DTSTART:20261025T010000
END:STANDARD
END:VTIMEZONE
BEGIN:VEVENT
DTSTART;VALUE=DATE:20251012
DTEND;VALUE=DATE:20251013
DTSTAMP:20260424T154338
CREATED:20251010T201751Z
LAST-MODIFIED:20251010T201751Z
UID:16805-1760227200-1760313599@alpenverein-baden-baden.de
SUMMARY:BERGWANDERN - Vom Gutachtal ins Kinzigtal
DESCRIPTION:Route: Hornberg – Huberfelsen – Urenkopf –Haslach\nGehzeiten: 24 km\, 1000 Hm\, ca. 7 Std.\nSchwierigkeit: T1/T2\nAnforderung: Trittsicherheit\, Rucksackverpflegung\nTreffpunkt: Bahnhof Baden-Baden\nUhrzeit und Bahnverbindung nach Anmeldung\nAnfahrt: Zug Baden-Baden nach Hornberg\, Rückfahrt Zug ab Haslach\nTeilnehmer: min. 3 TN\, max. 12 TN/Wanderleiter\nAnmeldeschluss: 08.10.2025\, Anmeldung an Thomas Faißt\nLeitung: Thomas Faißt\, Tel.: 07221 71710\, E-Mail:\ntm.faisst@gmx.de\n(2. Wanderleiter Monika Faißt)
URL:https://alpenverein-baden-baden.de/event/ausbildung-outdoor-ausbildungstour-in-den-zillertaler-alpen-mit-lvs-kurs-2-2-3-2-2-2-3-2-2-2-2-2-2-2-2-2-2-3-2-2-2-4/
CATEGORIES:Bergwandern,Wandern
END:VEVENT
END:VCALENDAR