BEGIN:VCALENDAR
VERSION:2.0
PRODID:-//DAV - ECPv6.15.20//NONSGML v1.0//EN
CALSCALE:GREGORIAN
METHOD:PUBLISH
X-ORIGINAL-URL:https://alpenverein-baden-baden.de
X-WR-CALDESC:Veranstaltungen für DAV
REFRESH-INTERVAL;VALUE=DURATION:PT1H
X-Robots-Tag:noindex
X-PUBLISHED-TTL:PT1H
BEGIN:VTIMEZONE
TZID:Europe/Berlin
BEGIN:DAYLIGHT
TZOFFSETFROM:+0100
TZOFFSETTO:+0200
TZNAME:CEST
DTSTART:20240331T010000
END:DAYLIGHT
BEGIN:STANDARD
TZOFFSETFROM:+0200
TZOFFSETTO:+0100
TZNAME:CET
DTSTART:20241027T010000
END:STANDARD
BEGIN:DAYLIGHT
TZOFFSETFROM:+0100
TZOFFSETTO:+0200
TZNAME:CEST
DTSTART:20250330T010000
END:DAYLIGHT
BEGIN:STANDARD
TZOFFSETFROM:+0200
TZOFFSETTO:+0100
TZNAME:CET
DTSTART:20251026T010000
END:STANDARD
BEGIN:DAYLIGHT
TZOFFSETFROM:+0100
TZOFFSETTO:+0200
TZNAME:CEST
DTSTART:20260329T010000
END:DAYLIGHT
BEGIN:STANDARD
TZOFFSETFROM:+0200
TZOFFSETTO:+0100
TZNAME:CET
DTSTART:20261025T010000
END:STANDARD
END:VTIMEZONE
BEGIN:VEVENT
DTSTART;TZID=Europe/Berlin:20251015T170000
DTEND;TZID=Europe/Berlin:20251015T190000
DTSTAMP:20260424T154505
CREATED:20251013T142313Z
LAST-MODIFIED:20251013T142313Z
UID:16815-1760547600-1760554800@alpenverein-baden-baden.de
SUMMARY:RADTOUREN - Abendliche Trails
DESCRIPTION:Anforderung: Kondition und Fahrtechnik mittel\, S0 bis untere S1\nHöhendifferenz/ Strecke: 750 Hm / 20 km\nFahrzeit: 2 Std.\nTreffpunkt: Parkplatz Kletterhalle Baden-Oos\, 17:00 Uhr\nTeilnehmer: max. 2-6\nAnmeldeschluss: 15.10.2025\nGemeinschaftstour\nOrganisation: Günter Heller\, guenterheller@gmx.net
URL:https://alpenverein-baden-baden.de/event/ausbildung-outdoor-ausbildungstour-in-den-zillertaler-alpen-mit-lvs-kurs-2-2-3-2-2-2-3-2-2-2-2-2-2-2-2-2-2-3-3-2-4-2/
CATEGORIES:Biken,Gemeinschaftstour
END:VEVENT
END:VCALENDAR