BEGIN:VCALENDAR
VERSION:2.0
PRODID:-//DAV - ECPv6.15.20//NONSGML v1.0//EN
CALSCALE:GREGORIAN
METHOD:PUBLISH
X-ORIGINAL-URL:https://alpenverein-baden-baden.de
X-WR-CALDESC:Veranstaltungen für DAV
REFRESH-INTERVAL;VALUE=DURATION:PT1H
X-Robots-Tag:noindex
X-PUBLISHED-TTL:PT1H
BEGIN:VTIMEZONE
TZID:Europe/Berlin
BEGIN:DAYLIGHT
TZOFFSETFROM:+0100
TZOFFSETTO:+0200
TZNAME:CEST
DTSTART:20240331T010000
END:DAYLIGHT
BEGIN:STANDARD
TZOFFSETFROM:+0200
TZOFFSETTO:+0100
TZNAME:CET
DTSTART:20241027T010000
END:STANDARD
BEGIN:DAYLIGHT
TZOFFSETFROM:+0100
TZOFFSETTO:+0200
TZNAME:CEST
DTSTART:20250330T010000
END:DAYLIGHT
BEGIN:STANDARD
TZOFFSETFROM:+0200
TZOFFSETTO:+0100
TZNAME:CET
DTSTART:20251026T010000
END:STANDARD
BEGIN:DAYLIGHT
TZOFFSETFROM:+0100
TZOFFSETTO:+0200
TZNAME:CEST
DTSTART:20260329T010000
END:DAYLIGHT
BEGIN:STANDARD
TZOFFSETFROM:+0200
TZOFFSETTO:+0100
TZNAME:CET
DTSTART:20261025T010000
END:STANDARD
END:VTIMEZONE
BEGIN:VEVENT
DTSTART;TZID=Europe/Berlin:20251101T000000
DTEND;TZID=Europe/Berlin:20251102T000000
DTSTAMP:20260424T154427
CREATED:20251013T143725Z
LAST-MODIFIED:20251013T143725Z
UID:16819-1761955200-1762041600@alpenverein-baden-baden.de
SUMMARY:FAMILIENGRUPPE - Kletterhallen-Escape-Room mit Übernachtung
DESCRIPTION:Route:      An diesem Abend wird die Kletterhalle in einen spannenden Escape-Room verwandelt\, der voller kniffliger Rätsel steckt.    Nur mit guter Teamarbeit kann es uns gelingen\, diese zu lösen und das Geheimnis um die sonderbaren Ereignisse im  Kletterzentrum zu lüften.\nSchwierigkeit:            Wird dem Alter der Teilnehmer*innen angepasst.\nZeiten:                          Nach 1\,5 – 2 h Rätselspaß bereiten wir unsere Schlafsäcke und Isomatten für ein gemütliches Nachtlager vor. Nach einem\ngemeinsamen Frühstück kann noch geklettert werden.\nAnforderung:              Spaß am Rätseln in der Gruppe.\nAusrüstung:                Schlafsack\, Isomatte und alles\, was du für eine Übernachtung brauchst.\nTreffpunkt:                 Kletterhalle\, genaue Uhrzeit wird über Klubraum-App bekannt gegeben\nAnfahrt:                       Eigenständig\nTeilnehmer*innen:   max. 20 Personen. Alle\, die Interesse an Escape-Rooms haben. Gerne auch aus der Jugendgruppe.\nAnmeldeschluss:       Sa. 25.10.2025\, Anmeldung per E-Mail oder Klubraum-App\nUnkostenbeitrag:      Für Kletternde Halleneintritt. Frühstück planen wir gemeinsam.\nGemeinschaftstour\nOrganisation:             Regina Busch\, famgl1@dav-bad.de\nBitte Anzahl und Alter der Kinder angeben
URL:https://alpenverein-baden-baden.de/event/ausbildung-outdoor-ausbildungstour-in-den-zillertaler-alpen-mit-lvs-kurs-2-2-3-2-2-2-3-2-2-2-2-2-2-2-2-2-2-2-2-2-2-2-2-2-2-2-2-2-2-2-2-2-2-2-2-2-2-2-2-2/
CATEGORIES:Familie,Klettern
END:VEVENT
END:VCALENDAR