BEGIN:VCALENDAR
VERSION:2.0
PRODID:-//DAV - ECPv6.15.20//NONSGML v1.0//EN
CALSCALE:GREGORIAN
METHOD:PUBLISH
X-ORIGINAL-URL:https://alpenverein-baden-baden.de
X-WR-CALDESC:Veranstaltungen für DAV
REFRESH-INTERVAL;VALUE=DURATION:PT1H
X-Robots-Tag:noindex
X-PUBLISHED-TTL:PT1H
BEGIN:VTIMEZONE
TZID:Europe/Berlin
BEGIN:DAYLIGHT
TZOFFSETFROM:+0100
TZOFFSETTO:+0200
TZNAME:CEST
DTSTART:20240331T010000
END:DAYLIGHT
BEGIN:STANDARD
TZOFFSETFROM:+0200
TZOFFSETTO:+0100
TZNAME:CET
DTSTART:20241027T010000
END:STANDARD
BEGIN:DAYLIGHT
TZOFFSETFROM:+0100
TZOFFSETTO:+0200
TZNAME:CEST
DTSTART:20250330T010000
END:DAYLIGHT
BEGIN:STANDARD
TZOFFSETFROM:+0200
TZOFFSETTO:+0100
TZNAME:CET
DTSTART:20251026T010000
END:STANDARD
BEGIN:DAYLIGHT
TZOFFSETFROM:+0100
TZOFFSETTO:+0200
TZNAME:CEST
DTSTART:20260329T010000
END:DAYLIGHT
BEGIN:STANDARD
TZOFFSETFROM:+0200
TZOFFSETTO:+0100
TZNAME:CET
DTSTART:20261025T010000
END:STANDARD
END:VTIMEZONE
BEGIN:VEVENT
DTSTART;TZID=Europe/Berlin:20251109T090000
DTEND;TZID=Europe/Berlin:20251109T120000
DTSTAMP:20260420T220019
CREATED:20251013T152416Z
LAST-MODIFIED:20251013T155856Z
UID:16836-1762678800-1762689600@alpenverein-baden-baden.de
SUMMARY:FAMILIENGRUPPE - Familienklettern
DESCRIPTION:Wer:\n\nFamilien in denen sowohl Kinder als auch Eltern gerne klettern. Noch-nicht-kletternde Kinder und Kleinkinder sind natürlich auch  willkommen. \n\nWas:\n\nEine Zeit\, in der Kinder und Eltern klettern können und die Erwachsenen sich bei der Beaufsichtigung der Kinder gegenseitig unterstützen\, um allen ein unbeschwertes Klettern zu ermöglichen. \n\nWie:\n\nJe nach Zusammensetzung und Alter der Kinder starten wir mit spielerischem Aufwärmen\, Dehnen und kleinen Kletterspielen. Danach Klettern! \n\nWann&Wo:\n\n\nJeweils 9:00 Uhr bis 12:00 Uhr im DAV Kletterzentrum Baden-Baden.\nSo. 26.10.2025\nSo. 09.11.2025\nSo. 23.11.2025\nSa. 06.12.2025 (separate Ausschreibung beachten\nSo. 21.12.2025 Jahresabschluss mit Plätzchen essen\n\nKosten:       Normaler Halleneintritt + ggf. Kosten für Leihmaterial\nWichtig:     Voraussetzung zur Teilnahme ist das Beherrschen der Sicherungstechnik des jeweiligen Kletterstils (Top-Rope/Vorstieg).\n\nAnmeldung:     Zur besseren Planung bitten wir um vorherige Anmeldung mit Anzahl und Alter der Kinder\nKontakt/Anmeldung: Markus & Katharina Jost\, famgl2@dav-bad.de\n\n\nWeitere Details gerne auf Anfrage bzw. nach Anmeldung.
URL:https://alpenverein-baden-baden.de/event/ausbildung-outdoor-ausbildungstour-in-den-zillertaler-alpen-mit-lvs-kurs-2-2-3-2-2-2-3-2-2-2-2-2-2-2-2-2-2-2-2-2-2-2-2-2-2-2-2-2-2-2-2-2-2-2-2-2-2-2-2-4/
CATEGORIES:Familie,Klettern
END:VEVENT
END:VCALENDAR