BEGIN:VCALENDAR
VERSION:2.0
PRODID:-//DAV - ECPv6.15.20//NONSGML v1.0//EN
CALSCALE:GREGORIAN
METHOD:PUBLISH
X-ORIGINAL-URL:https://alpenverein-baden-baden.de
X-WR-CALDESC:Veranstaltungen für DAV
REFRESH-INTERVAL;VALUE=DURATION:PT1H
X-Robots-Tag:noindex
X-PUBLISHED-TTL:PT1H
BEGIN:VTIMEZONE
TZID:Europe/Berlin
BEGIN:DAYLIGHT
TZOFFSETFROM:+0100
TZOFFSETTO:+0200
TZNAME:CEST
DTSTART:20240331T010000
END:DAYLIGHT
BEGIN:STANDARD
TZOFFSETFROM:+0200
TZOFFSETTO:+0100
TZNAME:CET
DTSTART:20241027T010000
END:STANDARD
BEGIN:DAYLIGHT
TZOFFSETFROM:+0100
TZOFFSETTO:+0200
TZNAME:CEST
DTSTART:20250330T010000
END:DAYLIGHT
BEGIN:STANDARD
TZOFFSETFROM:+0200
TZOFFSETTO:+0100
TZNAME:CET
DTSTART:20251026T010000
END:STANDARD
BEGIN:DAYLIGHT
TZOFFSETFROM:+0100
TZOFFSETTO:+0200
TZNAME:CEST
DTSTART:20260329T010000
END:DAYLIGHT
BEGIN:STANDARD
TZOFFSETFROM:+0200
TZOFFSETTO:+0100
TZNAME:CET
DTSTART:20261025T010000
END:STANDARD
END:VTIMEZONE
BEGIN:VEVENT
DTSTART;TZID=Europe/Berlin:20251206T100000
DTEND;TZID=Europe/Berlin:20251206T130000
DTSTAMP:20260420T200645
CREATED:20251106T181826Z
LAST-MODIFIED:20251119T132434Z
UID:17141-1765015200-1765026000@alpenverein-baden-baden.de
SUMMARY:Nikolaus-Schnupperklettern
DESCRIPTION:Ohne Anmeldung! \n5x Klettern für 9€ inklusive Leihmaterial
URL:https://alpenverein-baden-baden.de/event/nikolaus-schnupperklettern/
CATEGORIES:Klettern
END:VEVENT
BEGIN:VEVENT
DTSTART;TZID=Europe/Berlin:20251206T150000
DTEND;TZID=Europe/Berlin:20251207T110000
DTSTAMP:20260420T200645
CREATED:20251013T150911Z
LAST-MODIFIED:20251013T150911Z
UID:16830-1765033200-1765105200@alpenverein-baden-baden.de
SUMMARY:FAMILIENGRUPPE - Nikolausklettern
DESCRIPTION:Route:                      beliebig\nKletternachmittag und -abend für Kinder und Eltern mit anschließender Übernachtung in der Kletterhalle und morgendl.\nFrühsportklettern\, wer mag. Ihr könnt Euch uns auch nur samstags oder sonntags anschließen.\nSchwierigkeit:         frei wählbar\nAnforderung:          Beherrschen der Sicherungstechnik\, mindestens im Toprope\, Eltern sichern sich und ihre Kinder selbständig\, ab 6 Jahren.\nAusrüstung:             Klettergurt\, Kletterschuhe\, Hallenschuhe\,\nSicherungsgerät/Material –  außer Hallenschuhen – kann vor Ort geliehen werden.\nÜbernachtungssachen (Isomatte\, Kissen und Schlafsack)\nTreffpunkt:              DAV-Kletterzentrum Baden-Baden ab 15:00\nAnfahrt:                    mit eigenem PKW / ggf. Fahrgemeinschaften\nTeilnehmer:             max. 5 Familien\nAnmeldeschluss:     Di.\, 25.11.2025\nUnkostenbeitrag:    ca. 5 € pro Kind für eine kleine Nikolausüberraschung\, normaler Halleneintritt plus ggf. Leihmaterial\nAbendessen und Frühstück planen wir gemeinsam mit Euch!\nGemeinschaftstour\nOrganisation:          Katharina und Markus Jost über Klubraum-App oder famgl2@dav-bad.de\nAnmeldung:            Weitere Details gerne auf Anfrage bzw. nach Anmeldung.\nZur besseren Planung gebt bitte die Anzahl und das Alter eurer Kinder an.
URL:https://alpenverein-baden-baden.de/event/ausbildung-outdoor-ausbildungstour-in-den-zillertaler-alpen-mit-lvs-kurs-2-2-3-2-2-2-3-2-2-2-2-2-2-2-2-2-2-2-2-2-2-2-2-2-2-2-2-2-2-2-2-2-2-2-2-2-2-2-2-3/
CATEGORIES:Familie,Klettern
END:VEVENT
END:VCALENDAR