BEGIN:VCALENDAR
VERSION:2.0
PRODID:-//DAV - ECPv6.15.20//NONSGML v1.0//EN
CALSCALE:GREGORIAN
METHOD:PUBLISH
X-WR-CALNAME:DAV
X-ORIGINAL-URL:https://alpenverein-baden-baden.de
X-WR-CALDESC:Veranstaltungen für DAV
REFRESH-INTERVAL;VALUE=DURATION:PT1H
X-Robots-Tag:noindex
X-PUBLISHED-TTL:PT1H
BEGIN:VTIMEZONE
TZID:Europe/Berlin
BEGIN:DAYLIGHT
TZOFFSETFROM:+0100
TZOFFSETTO:+0200
TZNAME:CEST
DTSTART:20250330T010000
END:DAYLIGHT
BEGIN:STANDARD
TZOFFSETFROM:+0200
TZOFFSETTO:+0100
TZNAME:CET
DTSTART:20251026T010000
END:STANDARD
BEGIN:DAYLIGHT
TZOFFSETFROM:+0100
TZOFFSETTO:+0200
TZNAME:CEST
DTSTART:20260329T010000
END:DAYLIGHT
BEGIN:STANDARD
TZOFFSETFROM:+0200
TZOFFSETTO:+0100
TZNAME:CET
DTSTART:20261025T010000
END:STANDARD
BEGIN:DAYLIGHT
TZOFFSETFROM:+0100
TZOFFSETTO:+0200
TZNAME:CEST
DTSTART:20270328T010000
END:DAYLIGHT
BEGIN:STANDARD
TZOFFSETFROM:+0200
TZOFFSETTO:+0100
TZNAME:CET
DTSTART:20271031T010000
END:STANDARD
END:VTIMEZONE
BEGIN:VEVENT
DTSTART;TZID=Europe/Berlin:20260109T150000
DTEND;TZID=Europe/Berlin:20260109T170000
DTSTAMP:20260421T010123
CREATED:20251124T142753Z
LAST-MODIFIED:20251124T142753Z
UID:17249-1767970800-1767978000@alpenverein-baden-baden.de
SUMMARY:Schnupperkurs
DESCRIPTION:Du wolltest klettern einfach mal ausprobieren? Hast aber keine Erfahrung und Material? Dann ist das Schnupperklettern genau das Richtige für Dich! Von einer/m Kletterbetreuer/in gesichert\, kannst Du Dich voll auf den Weg in die Vertikale konzentrieren und unsere Kletterwände erklimmen! \nVoraussetzung: keine \nKosten: 20€ für Kinder\, 30€ für Erwachsene \nAnmeldung erforderlich!!! \nAnmeldung über unser Kursbuchungssystem der Homepage oder über kurse@alpenverein-baden-baden.de \n 
URL:https://alpenverein-baden-baden.de/event/schnupperkurs-5/
CATEGORIES:Familie,Klettern,Kurse / Ausbildung
END:VEVENT
BEGIN:VEVENT
DTSTART;TZID=Europe/Berlin:20260109T150000
DTEND;TZID=Europe/Berlin:20260109T173000
DTSTAMP:20260421T010123
CREATED:20251221T121709Z
LAST-MODIFIED:20251221T121709Z
UID:17597-1767970800-1767979800@alpenverein-baden-baden.de
SUMMARY:Wandern - After work
DESCRIPTION:Fr. 09.01.2026 Wanderung rund um Moosbronn\nRoute: Moosbronn (450m) – Mittelberg (552m) – Bernbach – Moosbronn\nSchwierigkeit: T2\nGehzeiten: ca. 2\,5 Stunden\nAnforderung: Lampe und Stöcke empfehlenswert\nAnfahrt: Privat PKW\, Fahrgemeinschaften ab Bahnhof Baden-Baden\nTreffpunkt: 15 Uhr bei der Wallfahrtskirche in Moosbronn\nTeilnehmer: min. 3\, max. 12 Personen\nHinweis: bei schlechtem Wetter (Glatteis\, Sturm) findet die Wanderung nicht statt\nAnmeldeschluss: 06.01.2025\, Anmeldung bei Klaus Bardoll\nOrganisation: Klaus Bardoll\, 07225-4555
URL:https://alpenverein-baden-baden.de/event/ausbildung-outdoor-einfuehrung-in-die-bergwetterkunde-2-2-2-2-4-3-3-2-2-2-2-2-2-2-2/
CATEGORIES:Wandern
END:VEVENT
BEGIN:VEVENT
DTSTART;TZID=Europe/Berlin:20260109T200000
DTEND;TZID=Europe/Berlin:20260109T220000
DTSTAMP:20260421T010123
CREATED:20251221T165204Z
LAST-MODIFIED:20251221T165204Z
UID:17648-1767988800-1767996000@alpenverein-baden-baden.de
SUMMARY:Sektionsabend - Zu den Naturwundern Patagoniens
DESCRIPTION:Fr. 09.01.2026 Zu den Naturwundern Patagoniens \nBeginn: 20:00 Uhr \nHarald Knoch \nHinweis: \nAn diesem Abend endet der Kletterbetrieb bereits um 19:00!
URL:https://alpenverein-baden-baden.de/event/ligurien-unsere-zweite-heimat-klettern-biken-baden-in-finale-ligurien-2/
CATEGORIES:Sektionsabend
END:VEVENT
END:VCALENDAR