BEGIN:VCALENDAR
VERSION:2.0
PRODID:-//DAV - ECPv6.15.20//NONSGML v1.0//EN
CALSCALE:GREGORIAN
METHOD:PUBLISH
X-ORIGINAL-URL:https://alpenverein-baden-baden.de
X-WR-CALDESC:Veranstaltungen für DAV
REFRESH-INTERVAL;VALUE=DURATION:PT1H
X-Robots-Tag:noindex
X-PUBLISHED-TTL:PT1H
BEGIN:VTIMEZONE
TZID:Europe/Berlin
BEGIN:DAYLIGHT
TZOFFSETFROM:+0100
TZOFFSETTO:+0200
TZNAME:CEST
DTSTART:20250330T010000
END:DAYLIGHT
BEGIN:STANDARD
TZOFFSETFROM:+0200
TZOFFSETTO:+0100
TZNAME:CET
DTSTART:20251026T010000
END:STANDARD
BEGIN:DAYLIGHT
TZOFFSETFROM:+0100
TZOFFSETTO:+0200
TZNAME:CEST
DTSTART:20260329T010000
END:DAYLIGHT
BEGIN:STANDARD
TZOFFSETFROM:+0200
TZOFFSETTO:+0100
TZNAME:CET
DTSTART:20261025T010000
END:STANDARD
BEGIN:DAYLIGHT
TZOFFSETFROM:+0100
TZOFFSETTO:+0200
TZNAME:CEST
DTSTART:20270328T010000
END:DAYLIGHT
BEGIN:STANDARD
TZOFFSETFROM:+0200
TZOFFSETTO:+0100
TZNAME:CET
DTSTART:20271031T010000
END:STANDARD
END:VTIMEZONE
BEGIN:VEVENT
DTSTART;TZID=Europe/Berlin:20260208T110000
DTEND;TZID=Europe/Berlin:20260208T140000
DTSTAMP:20260422T162210
CREATED:20251111T140626Z
LAST-MODIFIED:20260107T161034Z
UID:17167-1770548400-1770559200@alpenverein-baden-baden.de
SUMMARY:Boulderkurs
DESCRIPTION:Anmeldung erforderlich! \nAnmeldung über das Kursbuchungssystem der Homepage oder über kurse@alpenverein-baden-baden.de
URL:https://alpenverein-baden-baden.de/event/boulderkurs-4/
CATEGORIES:Klettern,Kurse / Ausbildung
END:VEVENT
BEGIN:VEVENT
DTSTART;TZID=Europe/Berlin:20260208T143000
DTEND;TZID=Europe/Berlin:20260208T173000
DTSTAMP:20260422T162210
CREATED:20251023T161543Z
LAST-MODIFIED:20251023T161543Z
UID:17075-1770561000-1770571800@alpenverein-baden-baden.de
SUMMARY:Elternkindkurs
DESCRIPTION:Anmeldung erforderlich! \nAnmeldung über unser Kursbuchungssystem der Homepage oder per mail an kurse@alpenverein-baden-baden.de
URL:https://alpenverein-baden-baden.de/event/elternkindkurs-10/
CATEGORIES:Kurse / Ausbildung
END:VEVENT
END:VCALENDAR