BEGIN:VCALENDAR
VERSION:2.0
PRODID:-//DAV - ECPv6.15.20//NONSGML v1.0//EN
CALSCALE:GREGORIAN
METHOD:PUBLISH
X-ORIGINAL-URL:https://alpenverein-baden-baden.de
X-WR-CALDESC:Veranstaltungen für DAV
REFRESH-INTERVAL;VALUE=DURATION:PT1H
X-Robots-Tag:noindex
X-PUBLISHED-TTL:PT1H
BEGIN:VTIMEZONE
TZID:Europe/Berlin
BEGIN:DAYLIGHT
TZOFFSETFROM:+0100
TZOFFSETTO:+0200
TZNAME:CEST
DTSTART:20250330T010000
END:DAYLIGHT
BEGIN:STANDARD
TZOFFSETFROM:+0200
TZOFFSETTO:+0100
TZNAME:CET
DTSTART:20251026T010000
END:STANDARD
BEGIN:DAYLIGHT
TZOFFSETFROM:+0100
TZOFFSETTO:+0200
TZNAME:CEST
DTSTART:20260329T010000
END:DAYLIGHT
BEGIN:STANDARD
TZOFFSETFROM:+0200
TZOFFSETTO:+0100
TZNAME:CET
DTSTART:20261025T010000
END:STANDARD
BEGIN:DAYLIGHT
TZOFFSETFROM:+0100
TZOFFSETTO:+0200
TZNAME:CEST
DTSTART:20270328T010000
END:DAYLIGHT
BEGIN:STANDARD
TZOFFSETFROM:+0200
TZOFFSETTO:+0100
TZNAME:CET
DTSTART:20271031T010000
END:STANDARD
END:VTIMEZONE
BEGIN:VEVENT
DTSTART;TZID=Europe/Berlin:20260608T174500
DTEND;TZID=Europe/Berlin:20260608T214500
DTSTAMP:20260421T064413
CREATED:20260323T151806Z
LAST-MODIFIED:20260323T152154Z
UID:18291-1780940700-1780955100@alpenverein-baden-baden.de
SUMMARY:Vorstiegskurs Teil 1
DESCRIPTION:Vorstiegskurs am 08.06.26. Teil 1 & 15.06.26.26 Teil 2 jeweils von 17:45 bis 21:45\nDer Vorstiegskurs richtet sich an alle Kletterbegeisterten\, die sich im Topropeklettern sicher fühlen und Ihr Kletterkönnen ausbauen wollen.\nVorraussetzung: mindestens 14 Jahre und sicheres Beherrschen des Topropekletterns bis Grad V (UIAA)\nDauer: 2 Termine a 4 Stunden\nKosten: 85€ für Sektionsmitglieder und 105€ für Nichtmitglieder \nAnmeldung ausschließlich über unser Kursbuchungssystem der Homepage https://alpenverein-baden-baden.de/kletterzentrum/\noder per mail an kurse@alpenverein-baden-baden.de
URL:https://alpenverein-baden-baden.de/event/vorstiegskurs-teil-1/
END:VEVENT
END:VCALENDAR