BEGIN:VCALENDAR
VERSION:2.0
PRODID:-//DAV - ECPv6.15.20//NONSGML v1.0//EN
CALSCALE:GREGORIAN
METHOD:PUBLISH
X-ORIGINAL-URL:https://alpenverein-baden-baden.de
X-WR-CALDESC:Veranstaltungen für DAV
REFRESH-INTERVAL;VALUE=DURATION:PT1H
X-Robots-Tag:noindex
X-PUBLISHED-TTL:PT1H
BEGIN:VTIMEZONE
TZID:Europe/Berlin
BEGIN:DAYLIGHT
TZOFFSETFROM:+0100
TZOFFSETTO:+0200
TZNAME:CEST
DTSTART:20250330T010000
END:DAYLIGHT
BEGIN:STANDARD
TZOFFSETFROM:+0200
TZOFFSETTO:+0100
TZNAME:CET
DTSTART:20251026T010000
END:STANDARD
BEGIN:DAYLIGHT
TZOFFSETFROM:+0100
TZOFFSETTO:+0200
TZNAME:CEST
DTSTART:20260329T010000
END:DAYLIGHT
BEGIN:STANDARD
TZOFFSETFROM:+0200
TZOFFSETTO:+0100
TZNAME:CET
DTSTART:20261025T010000
END:STANDARD
BEGIN:DAYLIGHT
TZOFFSETFROM:+0100
TZOFFSETTO:+0200
TZNAME:CEST
DTSTART:20270328T010000
END:DAYLIGHT
BEGIN:STANDARD
TZOFFSETFROM:+0200
TZOFFSETTO:+0100
TZNAME:CET
DTSTART:20271031T010000
END:STANDARD
END:VTIMEZONE
BEGIN:VEVENT
DTSTART;TZID=Europe/Berlin:20260620T093000
DTEND;TZID=Europe/Berlin:20260620T140000
DTSTAMP:20260421T064411
CREATED:20251221T121317Z
LAST-MODIFIED:20251221T121317Z
UID:17594-1781947800-1781964000@alpenverein-baden-baden.de
SUMMARY:Wandern - Große Loffenauer Runde
DESCRIPTION:Sa. 20.06.2026 Große Loffenauer Runde (Premiumwanderweg)\nRoute: Um Loffenau über die Teufelsmühle mit Panoramaaussichten\nSchwierigkeit: T1 / T2\nGehzeiten: 14 km\, ca. 705 Hm\, ca. 4 – 4\,5 Stunden\nAnforderung: Trittsicherheit\, Rucksackverpflegung\nAnfahrt: mit Bahn\, Bus bzw. Fahrgemeinschaften; wird noch bekannt gegeben nach Anmeldung\nTreffpunkt: 09:30 Uhr Kurpark in 76597 Loffenau\nTeilnehmer: min. 3\, max. 12 Personen\nAnmeldeschluss: 17.04.2026\, Anmeldung bei Marianne Großklaus\nOrganisation: Marianne Großklaus\, m.grossklaus@online.de\, 0172-2499995
URL:https://alpenverein-baden-baden.de/event/ausbildung-outdoor-einfuehrung-in-die-bergwetterkunde-2-2-2-2-4-3-3-2-2-2-2-2-2-2/
CATEGORIES:Wandern
END:VEVENT
END:VCALENDAR