BEGIN:VCALENDAR
VERSION:2.0
PRODID:-//DAV - ECPv6.15.20//NONSGML v1.0//EN
CALSCALE:GREGORIAN
METHOD:PUBLISH
X-WR-CALNAME:DAV
X-ORIGINAL-URL:https://alpenverein-baden-baden.de
X-WR-CALDESC:Veranstaltungen für DAV
REFRESH-INTERVAL;VALUE=DURATION:PT1H
X-Robots-Tag:noindex
X-PUBLISHED-TTL:PT1H
BEGIN:VTIMEZONE
TZID:Europe/Berlin
BEGIN:DAYLIGHT
TZOFFSETFROM:+0100
TZOFFSETTO:+0200
TZNAME:CEST
DTSTART:20250330T010000
END:DAYLIGHT
BEGIN:STANDARD
TZOFFSETFROM:+0200
TZOFFSETTO:+0100
TZNAME:CET
DTSTART:20251026T010000
END:STANDARD
BEGIN:DAYLIGHT
TZOFFSETFROM:+0100
TZOFFSETTO:+0200
TZNAME:CEST
DTSTART:20260329T010000
END:DAYLIGHT
BEGIN:STANDARD
TZOFFSETFROM:+0200
TZOFFSETTO:+0100
TZNAME:CET
DTSTART:20261025T010000
END:STANDARD
BEGIN:DAYLIGHT
TZOFFSETFROM:+0100
TZOFFSETTO:+0200
TZNAME:CEST
DTSTART:20270328T010000
END:DAYLIGHT
BEGIN:STANDARD
TZOFFSETFROM:+0200
TZOFFSETTO:+0100
TZNAME:CET
DTSTART:20271031T010000
END:STANDARD
END:VTIMEZONE
BEGIN:VEVENT
DTSTART;TZID=Europe/Berlin:20260907T083000
DTEND;TZID=Europe/Berlin:20260911T150000
DTSTAMP:20260421T111026
CREATED:20260401T121653Z
LAST-MODIFIED:20260401T121653Z
UID:18384-1788769800-1789138800@alpenverein-baden-baden.de
SUMMARY:Sommerferienprogramm
DESCRIPTION:Ein Sommer voller Abendteuer \nWir füllen die Woche mit einem abwechslungsreiches Programm: \n·        Klettern am Seil \n·        Bouldern \n·        Lernen von Sicherungstechniken \n·        Erlebnispädagogische Übungen \n·        Schnitzeljagd \n·        Gemeinsames Kochen \nEgal ob Profi oder zum ersten Mal an der Wand – bei uns steht der Spaß und das gemeinsame Erlebnis im Vordergrund. \nAnmeldung und weitere Infos unter: kurse@alpenverein-baden-baden.de \n 
URL:https://alpenverein-baden-baden.de/event/sommerferienprogramm-2/
END:VEVENT
END:VCALENDAR