BEGIN:VCALENDAR
VERSION:2.0
PRODID:-//DAV - ECPv6.15.20//NONSGML v1.0//EN
CALSCALE:GREGORIAN
METHOD:PUBLISH
X-WR-CALNAME:DAV
X-ORIGINAL-URL:https://alpenverein-baden-baden.de
X-WR-CALDESC:Veranstaltungen für DAV
REFRESH-INTERVAL;VALUE=DURATION:PT1H
X-Robots-Tag:noindex
X-PUBLISHED-TTL:PT1H
BEGIN:VTIMEZONE
TZID:Europe/Berlin
BEGIN:DAYLIGHT
TZOFFSETFROM:+0100
TZOFFSETTO:+0200
TZNAME:CEST
DTSTART:20240331T010000
END:DAYLIGHT
BEGIN:STANDARD
TZOFFSETFROM:+0200
TZOFFSETTO:+0100
TZNAME:CET
DTSTART:20241027T010000
END:STANDARD
BEGIN:DAYLIGHT
TZOFFSETFROM:+0100
TZOFFSETTO:+0200
TZNAME:CEST
DTSTART:20250330T010000
END:DAYLIGHT
BEGIN:STANDARD
TZOFFSETFROM:+0200
TZOFFSETTO:+0100
TZNAME:CET
DTSTART:20251026T010000
END:STANDARD
BEGIN:DAYLIGHT
TZOFFSETFROM:+0100
TZOFFSETTO:+0200
TZNAME:CEST
DTSTART:20260329T010000
END:DAYLIGHT
BEGIN:STANDARD
TZOFFSETFROM:+0200
TZOFFSETTO:+0100
TZNAME:CET
DTSTART:20261025T010000
END:STANDARD
END:VTIMEZONE
BEGIN:VEVENT
DTSTART;VALUE=DATE:20250711
DTEND;VALUE=DATE:20250712
DTSTAMP:20260424T092118
CREATED:20240727T122425Z
LAST-MODIFIED:20250707T184110Z
UID:14639-1752192000-1752278399@alpenverein-baden-baden.de
SUMMARY:Sommerfest 2025 für alle Aktiven und die\, die es werden wollen
DESCRIPTION:Einladung zum Grillabend \nab 19 Uhr am Sektionszentrum
URL:https://alpenverein-baden-baden.de/event/sommerfest-fuer-alle-aktiven-und-die-die-es-werden-wollen/
CATEGORIES:Vereinsleben
END:VEVENT
BEGIN:VEVENT
DTSTART;VALUE=DATE:20250716
DTEND;VALUE=DATE:20250717
DTSTAMP:20260424T092118
CREATED:20250716T152315Z
LAST-MODIFIED:20250716T152315Z
UID:16370-1752624000-1752710399@alpenverein-baden-baden.de
SUMMARY:BERGWANDERN - Anfang Oktober - Wanderwochenende im Nordschwarzwald
DESCRIPTION:Route: Edelfrauengrab – Karlsruher Grat\, Allerheiligen-Wasserfälle\nSchwierigkeit: T1/T2\nGehzeiten: Ca. 4 – 5 Stunden/Tag\nÜbernachtung: in einem Gasthof\, wird von Teilnehmern selbst gebucht\nTreffpunkt: nach Absprache\nAnfahrt: nach Absprache\nTeilnehmer: min. 3 TN\, max. 10 TN\nAnmeldeschluss: September 2025\nAnmeldegebühr: 20 €\nOrganisation: Klaus Bardoll\, Tel.: 07225 4555
URL:https://alpenverein-baden-baden.de/event/ausbildung-outdoor-ausbildungstour-in-den-zillertaler-alpen-mit-lvs-kurs-2-2-3-2-2-2-3-2-2-2-2-2-2-2-2-2-2-3-2-2-2-3/
CATEGORIES:Bergwandern,Wandern
END:VEVENT
BEGIN:VEVENT
DTSTART;VALUE=DATE:20250717
DTEND;VALUE=DATE:20250718
DTSTAMP:20260424T092118
CREATED:20251222T153505Z
LAST-MODIFIED:20251222T153743Z
UID:17728-1752710400-1752796799@alpenverein-baden-baden.de
SUMMARY:Sommerfest 2026
DESCRIPTION:Einladung zum Grillabend \nab 17 Uhr am Sektionszentrum
URL:https://alpenverein-baden-baden.de/event/sommerfest-fuer-alle-aktiven-und-die-die-es-werden-wollen-3/
CATEGORIES:Vereinsleben
END:VEVENT
BEGIN:VEVENT
DTSTART;VALUE=DATE:20250719
DTEND;VALUE=DATE:20250720
DTSTAMP:20260424T092118
CREATED:20250707T182741Z
LAST-MODIFIED:20250707T182741Z
UID:16272-1752883200-1752969599@alpenverein-baden-baden.de
SUMMARY:BERGWANDERN - Westweg Etappe 1
DESCRIPTION:Route: Von Pforzheim nach Dobel\nSchwierigkeit: T1/T2\nGehzeiten: 24 km Länge\, 867 Hm Aufstieg\, 435 Hm Abstieg\nAnforderung: Gute Trittsicherheit\, Stöcke empfohlen\, stabile Wanderschuhe\, Rucksackverpflegung\, dem Wetter angepasste Kleidung\nTreffpunkt: Infos nach Anmeldung\, ca. 8:30 Uhr\nAnfahrt: Privat-PKW\, Fahrgemeinschaften\, Öffentliche Verkehrsmittel\nTeilnehmer: min. 3 TN\, max. 12 TN\nAnmeldeschluss: 13.07.2025\, Anmeldung bei Sandra Ortner\nLeitung: Sandra Ortner\, 0151-67503447\,\nsandra-ortner@freenet.de
URL:https://alpenverein-baden-baden.de/event/ausbildung-outdoor-ausbildungstour-in-den-zillertaler-alpen-mit-lvs-kurs-2-2-3-2-2-2-3-2-2-2-2-2-2-2-2-2-2-3/
CATEGORIES:Bergwandern,Wandern
END:VEVENT
BEGIN:VEVENT
DTSTART;TZID=Europe/Berlin:20250719T100000
DTEND;TZID=Europe/Berlin:20250719T150000
DTSTAMP:20260424T092118
CREATED:20250716T172835Z
LAST-MODIFIED:20250716T173827Z
UID:16399-1752919200-1752937200@alpenverein-baden-baden.de
SUMMARY:RADTOUREN - Latte-Macchiato-Tour im Murgtal (Mountainbike)
DESCRIPTION:Anforderung: Kondition mittel\, Fahrtechnik bis S1/S2\nHöhendifferenz/ Strecke: 1.200 Hm / 40 km\nFahrzeit: 5 Std.\nTreffpunkt: Igelbachstr. 30\, Gernsbach\,\nParkplatz Radco Team\, 10:00 Uhr\nTeilnehmer: 4–6\nAnmeldeschluss: 16.07.2025\nGemeinschaftstour\nOrganisation: Jan Latzko\, info-jan.latzko@gmx.de
URL:https://alpenverein-baden-baden.de/event/ausbildung-outdoor-ausbildungstour-in-den-zillertaler-alpen-mit-lvs-kurs-2-2-3-2-2-2-3-2-2-2-2-2-2-2-2-2-2-3-3-2-2/
CATEGORIES:Biken,Gemeinschaftstour
END:VEVENT
BEGIN:VEVENT
DTSTART;TZID=Europe/Berlin:20250722T000000
DTEND;TZID=Europe/Berlin:20250727T000000
DTSTAMP:20260424T092118
CREATED:20250716T175950Z
LAST-MODIFIED:20250716T175950Z
UID:16410-1753142400-1753574400@alpenverein-baden-baden.de
SUMMARY:RADTOUREN - Große Jura-Durchquerung (Mountainbike)
DESCRIPTION:Anforderung: Kondition schwer\, Fahrtechnik mittel\nHöhendifferenz/ Strecke: 7.500 Hm / 425 km\nTreffpunkt: Fahrgemeinschaft\, nach Absprache\nTeilnehmer: 2–6\nAnmeldeschluss: 30.06.2025\nGemeinschaftstour\nOrganisation: Günter Heller\, guenterheller@gmx.net
URL:https://alpenverein-baden-baden.de/event/ausbildung-outdoor-ausbildungstour-in-den-zillertaler-alpen-mit-lvs-kurs-2-2-3-2-2-2-3-2-2-2-2-2-2-2-2-2-2-3-3-2-2-2/
CATEGORIES:Biken,Gemeinschaftstour
END:VEVENT
BEGIN:VEVENT
DTSTART;VALUE=DATE:20250726
DTEND;VALUE=DATE:20250727
DTSTAMP:20260424T092118
CREATED:20250707T183535Z
LAST-MODIFIED:20250707T183535Z
UID:16277-1753488000-1753574399@alpenverein-baden-baden.de
SUMMARY:BERGWANDERN - Alpiner Steig am Feldberg
DESCRIPTION:Route: von St. Wilhelm (Napf\, Küfermateshof) über den Alpinen Steig zur Todtnauer Hütte und auf den Feldberg (optional)\, über Hüttenwasen wieder zurück\nSchwierigkeit: Das Teilstück Alpiner Steig ist ein abenteuerlicher\, unbewarteter Steig über Stock\, Stein\, Fels\, Baumwurzeln usw.\, er gilt als schwierig\, im weiteren Verlauf Routenänderung/Umgehungen aufgrund Sperrungen möglich\nGehzeiten: ca. 11 km Länge\, 650 Hm Auf- und Abstieg\, ca. 5 Stunden Gehzeit\nAnforderung: Sehr gute Trittsicherheit\, Kondition\, Beweglichkeit\, Bereitschaft zum „Kraxeln“\, stabile Wanderschuhe\, Rucksackverpflegung\, dem Wetter angepasste Kleidung\nTreffpunkt: Nach Absprache\, ca. 7 Uhr oder früher\nAnfahrt: Privat-PKW\, Fahrgemeinschaften nach Absprache\nTeilnehmer: min. 3 TN\, max. 6 TN\nAnmeldeschluss: 31.05.2025\, Anmeldung bei Eberhard Wild\nLeitung: Eberhard Wild\, Tel.: 0177 742 30 47\,\nE-Mail: eberhard-wild@t-online.de
URL:https://alpenverein-baden-baden.de/event/ausbildung-outdoor-ausbildungstour-in-den-zillertaler-alpen-mit-lvs-kurs-2-2-3-2-2-2-3-2-2-2-2-2-2-2-2-2-2-3-2/
CATEGORIES:Bergwandern,Wandern
END:VEVENT
BEGIN:VEVENT
DTSTART;TZID=Europe/Berlin:20250726T090000
DTEND;TZID=Europe/Berlin:20250726T123000
DTSTAMP:20260424T092118
CREATED:20250716T181111Z
LAST-MODIFIED:20250716T181111Z
UID:16416-1753520400-1753533000@alpenverein-baden-baden.de
SUMMARY:RADTOUREN - Drei-Gipfel-Tour (Mountainbike)
DESCRIPTION:Anforderung: Kondition mittel\, Fahrtechnik S1/S2\nHöhendifferenz/ Strecke: 900 Hm / ca. 25 km\nFahrzeit: ca. 3–4 Std.\nTreffpunkt: Cineplex Kino Baden-Oos\, Ortenaustraße 14\,\n76532 Baden-Baden\, 9:00 Uhr\nTeilnehmer: max. 6\nGemeinschaftstour\nOrganisation: Karsten Doering\, doering.karsten@arcor.de
URL:https://alpenverein-baden-baden.de/event/ausbildung-outdoor-ausbildungstour-in-den-zillertaler-alpen-mit-lvs-kurs-2-2-3-2-2-2-3-2-2-2-2-2-2-2-2-2-2-3-3-2-3-2/
CATEGORIES:Biken,Gemeinschaftstour
END:VEVENT
END:VCALENDAR