BEGIN:VCALENDAR
VERSION:2.0
PRODID:-//DAV - ECPv6.15.20//NONSGML v1.0//EN
CALSCALE:GREGORIAN
METHOD:PUBLISH
X-ORIGINAL-URL:https://alpenverein-baden-baden.de
X-WR-CALDESC:Veranstaltungen für DAV
REFRESH-INTERVAL;VALUE=DURATION:PT1H
X-Robots-Tag:noindex
X-PUBLISHED-TTL:PT1H
BEGIN:VTIMEZONE
TZID:Europe/Berlin
BEGIN:DAYLIGHT
TZOFFSETFROM:+0100
TZOFFSETTO:+0200
TZNAME:CEST
DTSTART:20240331T010000
END:DAYLIGHT
BEGIN:STANDARD
TZOFFSETFROM:+0200
TZOFFSETTO:+0100
TZNAME:CET
DTSTART:20241027T010000
END:STANDARD
BEGIN:DAYLIGHT
TZOFFSETFROM:+0100
TZOFFSETTO:+0200
TZNAME:CEST
DTSTART:20250330T010000
END:DAYLIGHT
BEGIN:STANDARD
TZOFFSETFROM:+0200
TZOFFSETTO:+0100
TZNAME:CET
DTSTART:20251026T010000
END:STANDARD
BEGIN:DAYLIGHT
TZOFFSETFROM:+0100
TZOFFSETTO:+0200
TZNAME:CEST
DTSTART:20260329T010000
END:DAYLIGHT
BEGIN:STANDARD
TZOFFSETFROM:+0200
TZOFFSETTO:+0100
TZNAME:CET
DTSTART:20261025T010000
END:STANDARD
END:VTIMEZONE
BEGIN:VEVENT
DTSTART;VALUE=DATE:20250905
DTEND;VALUE=DATE:20250908
DTSTAMP:20260424T123829
CREATED:20250707T181816Z
LAST-MODIFIED:20250707T181846Z
UID:16267-1757030400-1757289599@alpenverein-baden-baden.de
SUMMARY:MEHRTAGESWANDERUNG MITTELGEBIRGE - Karwendelrunde
DESCRIPTION:﻿Route:\nTag 1: Von Hinterriß im Rißtal über den Kleinen Ahornboden zum Karwendelhaus\nTag 2: Vom Karwendelhaus zunächst aufs Hochalmkreuz (2194 m)\, dann weiter zur Falkenhütte unter den Lalidererwänden\nTag 3: Von der Falkenhütte zurück nach Hinterriß über den Großen Ahornboden (optional)  \nGehzeiten:\nTag 1: 14 km\, 940 Hm ↑\nTag 2: 13 km\, 890 Hm ↑\, 817 Hm ↓\nTag 3: 21 km\, 1040 Hm ↓ \nSchwierigkeit:\nmeist T2\, max. T3 \nAnforderungen:\nTrittsicherheit\, gute Kondition\, Ausrüstung passend zur Tour \nÜbernachtung: 2 DAV-Hütten\, Mehrbettzimmer oder Lager\nTreffpunkt: nach Vereinbarung am Fr. 05.09.2025\nAnfahrt: private Pkw-Fahrgemeinschaften\nTeilnehmer: min. 2 TN\, max. 5 TN\nAnmeldegebühr: 30 €\nAnmeldeschluss: 31.07.2025\nOrganisation: Eberhard Wild\, Tel.: 0177 742 30 47\,\nE-Mail: eberhard-wild@t-online.de
URL:https://alpenverein-baden-baden.de/event/ausbildung-outdoor-ausbildungstour-in-den-zillertaler-alpen-mit-lvs-kurs-2-2-3-2-3-2/
CATEGORIES:Bergwandern,Gemeinschaftstour
END:VEVENT
BEGIN:VEVENT
DTSTART;VALUE=DATE:20250905
DTEND;VALUE=DATE:20250908
DTSTAMP:20260424T123829
CREATED:20250716T171541Z
LAST-MODIFIED:20250716T171646Z
UID:16393-1757030400-1757289599@alpenverein-baden-baden.de
SUMMARY:WANDERN alpin - Karwendelrunde
DESCRIPTION:Route: \nTag 1: Von Hinterriß im Rißtal über denKleinen Ahornboden zum Karwendelhaus\nTag 2: Vom Karwendelhaus zunächst aufs Hochalmkreuz (2194 m)\, dann weiter zur Falkenhütte unter den Lalidererwänden\nTag 3: Von der Falkenhütte zurück nach Hinterriß über den Großen Ahornboden (optional)\nGehzeiten: Tag 1: 14 km\, 940 Hm ↑\nTag 2: 13 km\, 890 Hm ↑\, 817 Hm ↓\nTag 3: 21 km\, 1040 Hm ↓\nSchwierigkeit: meist T2\, max. T3\nAnforderungen: Trittsicherheit\, gute Kondition\, Ausrüstung passend zur Tour\nÜbernachtung: 2 DAV-Hütten\, Mehrbettzimmer oder Lager\nTreffpunkt: nach Vereinbarung am Fr. 05.09.2025\nAnfahrt: private Pkw-Fahrgemeinschaften\nTeilnehmer: min. 2 TN\, max. 5 TN\nAnmeldegebühr: 30 €\nAnmeldeschluss: 31.07.2025\nOrganisation: Eberhard Wild\, Tel.: 0177 742 30 47\, E-Mail:\neberhard-wild@t-online.de
URL:https://alpenverein-baden-baden.de/event/ausbildung-outdoor-ausbildungstour-in-den-zillertaler-alpen-mit-lvs-kurs-2-2-3-2-2-2-3-2-2-2-2-2-2-2-2-2-2-3-2-3-2/
CATEGORIES:Biken
END:VEVENT
BEGIN:VEVENT
DTSTART;VALUE=DATE:20250914
DTEND;VALUE=DATE:20250915
DTSTAMP:20260424T123829
CREATED:20250707T185258Z
LAST-MODIFIED:20250707T185427Z
UID:16292-1757808000-1757894399@alpenverein-baden-baden.de
SUMMARY:BERGWANDERN - Runde um Enzklösterle
DESCRIPTION:Route: Enzklösterle – Schöllkopf – Großer Hummelberg – Enzquelle – Süßenbergplateau – Enzklösterle\nSchwierigkeit: T1\nGehzeiten: 25 km\, 750 Hm\, 6\,5 Std.\nAnforderung: festes Schuhwerk\, Rucksackverpflegung\nTreffpunkt: 14.09.2025\, 9:30 Uhr\, Parkplatz Tourist-Info\nEnzklösterle\nAnfahrt: PKW-Fahrgemeinschaften\nTeilnehmer: min. 3 TN\, max. 12 TN/Wanderleiter\nAnmeldeschluss: 09.09.2025\nLeitung: Hartmut Thiel\, Tel.: 0175 1862985\, E-Mail:\nhartmut_thiel@hotmail.com
URL:https://alpenverein-baden-baden.de/event/ausbildung-outdoor-ausbildungstour-in-den-zillertaler-alpen-mit-lvs-kurs-2-2-3-2-2-2-3-2-2-2-2-2-2-2-2-2-2-3-2-3/
CATEGORIES:Bergwandern,Wandern
END:VEVENT
BEGIN:VEVENT
DTSTART;TZID=Europe/Berlin:20250918T190000
DTEND;TZID=Europe/Berlin:20250918T190000
DTSTAMP:20260424T123829
CREATED:20241117T124900Z
LAST-MODIFIED:20241117T124900Z
UID:15061-1758222000-1758222000@alpenverein-baden-baden.de
SUMMARY:Vorstandssitzung
DESCRIPTION:
URL:https://alpenverein-baden-baden.de/event/vorstandssitzung-duplicate-2-2-2-2-2-2-2-2-2/
LOCATION:Sektionszentrum\, Flugstr. 17\, Baden-Baden
CATEGORIES:Vorstand
END:VEVENT
BEGIN:VEVENT
DTSTART;VALUE=DATE:20250927
DTEND;VALUE=DATE:20250928
DTSTAMP:20260424T123829
CREATED:20250707T190305Z
LAST-MODIFIED:20250707T190305Z
UID:16297-1758931200-1759017599@alpenverein-baden-baden.de
SUMMARY:BERGWANDERN - Kinzigtäler Jakobsweg\, Etappe 2
DESCRIPTION:Route: Schenkenzell – Wolfach\nSchwierigkeit: T1\nGehzeiten: 23 km\, 830 Hm Aufstieg\, 920 Hm Abstieg\, ca. 7 Stunden\nAnforderung: Trittsicherheit\, Stöcke empfohlen\, stabile Wanderschuhe\, Rucksackverpflegung\nTreffpunkt: Infos nach Anmeldung\nAnfahrt: Öffentliche Verkehrsmittel\, Abfahrt BAD\nBahnhof\, voraus. 06:27 Uhr Teilnehmer: min. 3 TN\, max. 12 TN\nAnmeldeschluss: 20.09.2025\, Anmeldung bei Andreas Tautz\nLeitung: Andreas Tautz\, 01523 1012451\, E-Mail:\npost@andreastautz.de
URL:https://alpenverein-baden-baden.de/event/ausbildung-outdoor-ausbildungstour-in-den-zillertaler-alpen-mit-lvs-kurs-2-2-3-2-2-2-3-2-2-2-2-2-2-2-2-2-2-3-3/
CATEGORIES:Bergwandern,Wandern
END:VEVENT
END:VCALENDAR