BEGIN:VCALENDAR
VERSION:2.0
PRODID:-//DAV - ECPv6.15.20//NONSGML v1.0//EN
CALSCALE:GREGORIAN
METHOD:PUBLISH
X-ORIGINAL-URL:https://alpenverein-baden-baden.de
X-WR-CALDESC:Veranstaltungen für DAV
REFRESH-INTERVAL;VALUE=DURATION:PT1H
X-Robots-Tag:noindex
X-PUBLISHED-TTL:PT1H
BEGIN:VTIMEZONE
TZID:Europe/Berlin
BEGIN:DAYLIGHT
TZOFFSETFROM:+0100
TZOFFSETTO:+0200
TZNAME:CEST
DTSTART:20250330T010000
END:DAYLIGHT
BEGIN:STANDARD
TZOFFSETFROM:+0200
TZOFFSETTO:+0100
TZNAME:CET
DTSTART:20251026T010000
END:STANDARD
BEGIN:DAYLIGHT
TZOFFSETFROM:+0100
TZOFFSETTO:+0200
TZNAME:CEST
DTSTART:20260329T010000
END:DAYLIGHT
BEGIN:STANDARD
TZOFFSETFROM:+0200
TZOFFSETTO:+0100
TZNAME:CET
DTSTART:20261025T010000
END:STANDARD
BEGIN:DAYLIGHT
TZOFFSETFROM:+0100
TZOFFSETTO:+0200
TZNAME:CEST
DTSTART:20270328T010000
END:DAYLIGHT
BEGIN:STANDARD
TZOFFSETFROM:+0200
TZOFFSETTO:+0100
TZNAME:CET
DTSTART:20271031T010000
END:STANDARD
END:VTIMEZONE
BEGIN:VEVENT
DTSTART;TZID=Europe/Berlin:20260602T180000
DTEND;TZID=Europe/Berlin:20260602T200000
DTSTAMP:20260421T050930
CREATED:20260401T075801Z
LAST-MODIFIED:20260401T075801Z
UID:18374-1780423200-1780430400@alpenverein-baden-baden.de
SUMMARY:Schnupperkurs für Erwachsene & Jugendliche
DESCRIPTION:Du wolltest schon immer einmal wissen\, wie sich Klettern anfühlt? Dann ist unser Schnupperkurs genau das Richtige für dich\, um den Klettersport kennenzulernen. \nVorkenntnisse oder Erfahrung brauchst du keine. Auch um Ausrüstung musst du dich nicht kümmern – alles\, was du brauchst\, stellen wir dir zur Verfügung. \nIm Kurs hast du die Möglichkeit\, im Toprope zu klettern und erste Eindrücke an der Wand zu sammeln. Dabei kannst du in entspannter Atmosphäre ausprobieren\, dich herantasten und einfach Spaß an der Bewegung erleben. \nWichtig: \nDieser Kurs dient ausschließlich zum Ausprobieren und Kennenlernen. Es werden keine Inhalte zum selbstständigen Sichern oder Klettern vermittelt. \nKomm vorbei und sammle erste Erfahrungen – wir freuen uns auf dich! \nAnmeldung über unser Kursbuchungssystem der Homepage oder über kurse@alpenverein-baden-baden.de
URL:https://alpenverein-baden-baden.de/event/schnupperkurs-fuer-erwachsene-jugendliche-4/
END:VEVENT
BEGIN:VEVENT
DTSTART;VALUE=DATE:20260606
DTEND;VALUE=DATE:20260608
DTSTAMP:20260421T050930
CREATED:20251221T164627Z
LAST-MODIFIED:20251221T164627Z
UID:17644-1780704000-1780876799@alpenverein-baden-baden.de
SUMMARY:Familie - Übernachtung im Baum
DESCRIPTION:Sa.06.06. – So.07.06.2026 Übernachtung im Baum\nRoute: Mit Klettermaterialien kann man nicht nur am Fels klettern!\nWir bauen uns einen Übernachtungsplatz im Baum. Je nachdem\, wie hoch der Schlafplatz sein soll\, bauen wir uns noch eine Aufstiegs-und\nAbseilstelle dazu. Als Basislager (Toilette und Kochstelle) mieten wir uns eine Selbstversorgerhütte\nSchwierigkeit: Geschick beim Knoten; Mut\, in der Höhe zu schlafen (müssen nicht alle)\nAnforderung: Spaß am Bauen mit Seilen und Karabinern und am Biwakieren im Baum\nAusrüstung: Eigener Klettergurt und Helm für alle Teilnehmer. Wenn vorhanden: eigenes Kletter- und Statik-Seil\, Bandschlingen\,\nSchraubkarabiner\, Grigri\, Steigklemme (am besten alles gut markiert)\, Rolle\, Hängematte und Schlafsack für jeden Baumschläfer.\nIsomatte\, Schlafsack und ggf. Tarp für Bodenschläfer; Verpflegung für Abendessen und Frühstück\nTreffpunkt: genaue Infos nach Anmeldung\nAnfahrt: Eigenständig\nTeilnehmer: max. 15 Personen\nAnmeldeschluss: Sa. 06.05.2026\nAnmeldegebühr: keine; die Kosten für die Hütte werden auf alle TN umgelegt\nArt: Gemeinschaftstour\nOrganisation: Regina Busch\, E-Mail famgl1@dav-bad.de \n 
URL:https://alpenverein-baden-baden.de/event/elternkindkurs-17-4/
CATEGORIES:Familie,Klettern
END:VEVENT
BEGIN:VEVENT
DTSTART;TZID=Europe/Berlin:20260608T174500
DTEND;TZID=Europe/Berlin:20260608T214500
DTSTAMP:20260421T050930
CREATED:20260323T151806Z
LAST-MODIFIED:20260323T152154Z
UID:18291-1780940700-1780955100@alpenverein-baden-baden.de
SUMMARY:Vorstiegskurs Teil 1
DESCRIPTION:Vorstiegskurs am 08.06.26. Teil 1 & 15.06.26.26 Teil 2 jeweils von 17:45 bis 21:45\nDer Vorstiegskurs richtet sich an alle Kletterbegeisterten\, die sich im Topropeklettern sicher fühlen und Ihr Kletterkönnen ausbauen wollen.\nVorraussetzung: mindestens 14 Jahre und sicheres Beherrschen des Topropekletterns bis Grad V (UIAA)\nDauer: 2 Termine a 4 Stunden\nKosten: 85€ für Sektionsmitglieder und 105€ für Nichtmitglieder \nAnmeldung ausschließlich über unser Kursbuchungssystem der Homepage https://alpenverein-baden-baden.de/kletterzentrum/\noder per mail an kurse@alpenverein-baden-baden.de
URL:https://alpenverein-baden-baden.de/event/vorstiegskurs-teil-1/
END:VEVENT
BEGIN:VEVENT
DTSTART;VALUE=DATE:20260613
DTEND;VALUE=DATE:20260616
DTSTAMP:20260421T050930
CREATED:20251221T103110Z
LAST-MODIFIED:20251221T103110Z
UID:17533-1781308800-1781567999@alpenverein-baden-baden.de
SUMMARY:Grundkurs Bergsteigen
DESCRIPTION:Sa. 13.06. – Mo. 15.06.2026 Grundkurs Bergsteigen\nKursort: Steingletscher in der Schweiz (Sustenpas)\nInhalt: Gehen auf Firn und Eis; Sicherungspunkte in Firn und Eis; Führungstechniken in der Seilschaft\nAusbildungsziel: Sicheres Gehen auf Altschnee und Gletschern; Kenntnis gängiger Führungstechnik\, um an einfachen Hochtouren teilnehmen zu können\nVoraussetzung: Kondition für 6-stündige Tour\nAusrüstung: Klettergurt\, Steigeisen; detaillierte Liste beim Vortreffen\nVortreffen: Di. 19.05.2026 im Sektionszentrum\nTeilnehmer: max. 6 Personen \nAnmeldefrist: 14.05.2026\nKursgebühr: 120 €\nLeitung: Karl Weidinger\, kalle.weidinger@web.de
URL:https://alpenverein-baden-baden.de/event/ausbildung-outdoor-einfuehrung-in-die-bergwetterkunde-2-2-2/
CATEGORIES:Ausbildung Outdoor
END:VEVENT
BEGIN:VEVENT
DTSTART;TZID=Europe/Berlin:20260615T174500
DTEND;TZID=Europe/Berlin:20260615T214500
DTSTAMP:20260421T050930
CREATED:20260323T152021Z
LAST-MODIFIED:20260323T152021Z
UID:18294-1781545500-1781559900@alpenverein-baden-baden.de
SUMMARY:Vorstiegskurs Teil 2
DESCRIPTION:Vorstiegskurs am 08.06.26. Teil 1 & 15.06.26.26 Teil 2 jeweils von 17:45 bis 21:45\nDer Vorstiegskurs richtet sich an alle Kletterbegeisterten\, die sich im Topropeklettern sicher fühlen und Ihr Kletterkönnen ausbauen wollen.\nVorraussetzung: mindestens 14 Jahre und sicheres Beherrschen des Topropekletterns bis Grad V (UIAA)\nDauer: 2 Termine a 4 Stunden\nKosten: 85€ für Sektionsmitglieder und 105€ für Nichtmitglieder \nAnmeldung ausschließlich über unser Kursbuchungssystem der Homepage https://alpenverein-baden-baden.de/kletterzentrum/\noder per mail an kurse@alpenverein-baden-baden.de
URL:https://alpenverein-baden-baden.de/event/vorstiegskurs-teil-2-2/
END:VEVENT
BEGIN:VEVENT
DTSTART;TZID=Europe/Berlin:20260618T190000
DTEND;TZID=Europe/Berlin:20260618T220000
DTSTAMP:20260421T050930
CREATED:20251222T150907Z
LAST-MODIFIED:20251222T150907Z
UID:17698-1781809200-1781820000@alpenverein-baden-baden.de
SUMMARY:Vorstandssitzung
DESCRIPTION:
URL:https://alpenverein-baden-baden.de/event/vorstandssitzung-duplicate-2-2-2-2-2-2-2-2-2-2-2-2-4-2/
LOCATION:Sektionszentrum\, Flugstr. 17\, Baden-Baden
CATEGORIES:Vorstand
END:VEVENT
BEGIN:VEVENT
DTSTART;TZID=Europe/Berlin:20260620T093000
DTEND;TZID=Europe/Berlin:20260620T140000
DTSTAMP:20260421T050930
CREATED:20251221T121317Z
LAST-MODIFIED:20251221T121317Z
UID:17594-1781947800-1781964000@alpenverein-baden-baden.de
SUMMARY:Wandern - Große Loffenauer Runde
DESCRIPTION:Sa. 20.06.2026 Große Loffenauer Runde (Premiumwanderweg)\nRoute: Um Loffenau über die Teufelsmühle mit Panoramaaussichten\nSchwierigkeit: T1 / T2\nGehzeiten: 14 km\, ca. 705 Hm\, ca. 4 – 4\,5 Stunden\nAnforderung: Trittsicherheit\, Rucksackverpflegung\nAnfahrt: mit Bahn\, Bus bzw. Fahrgemeinschaften; wird noch bekannt gegeben nach Anmeldung\nTreffpunkt: 09:30 Uhr Kurpark in 76597 Loffenau\nTeilnehmer: min. 3\, max. 12 Personen\nAnmeldeschluss: 17.04.2026\, Anmeldung bei Marianne Großklaus\nOrganisation: Marianne Großklaus\, m.grossklaus@online.de\, 0172-2499995
URL:https://alpenverein-baden-baden.de/event/ausbildung-outdoor-einfuehrung-in-die-bergwetterkunde-2-2-2-2-4-3-3-2-2-2-2-2-2-2/
CATEGORIES:Wandern
END:VEVENT
BEGIN:VEVENT
DTSTART;VALUE=DATE:20260627
DTEND;VALUE=DATE:20260629
DTSTAMP:20260421T050930
CREATED:20251221T104300Z
LAST-MODIFIED:20251221T104329Z
UID:17542-1782518400-1782691199@alpenverein-baden-baden.de
SUMMARY:Felsklettern: Klettern und Sichern in Mehrseillängenrouten (MSL (copy)
DESCRIPTION:Sa. 27.06. – So. 28.06.2026  Felsklettern: Klettern und Sichern in Mehrseillängenrouten (MSL)\nKursort: Kletterzentrum\, Schweizer Jura\nInhalt: Vorstieg und Nachstieg sichern in MSL; Abseilen\nAusbildungsziel: Selbständiges Klettern von MSL-Routen\nVoraussetzung: Grunderfahrung im Fels; sicheres Klettern im 4.Grad\nTeilnehmer: min. 2\, max. 6 Personen\nAnmeldefrist: 15.06.2025\nKursgebühr: 80 €\nLeitung: Hans-Jürgen Reiter\, hjreiter@gmx.de
URL:https://alpenverein-baden-baden.de/event/ausbildung-outdoor-einfuehrung-in-die-bergwetterkunde-2-2-2-2/
CATEGORIES:Ausbildung Outdoor/ Hallenkurse
END:VEVENT
END:VCALENDAR