BEGIN:VCALENDAR
VERSION:2.0
PRODID:-//DAV - ECPv6.15.20//NONSGML v1.0//EN
CALSCALE:GREGORIAN
METHOD:PUBLISH
X-ORIGINAL-URL:https://alpenverein-baden-baden.de
X-WR-CALDESC:Veranstaltungen für DAV
REFRESH-INTERVAL;VALUE=DURATION:PT1H
X-Robots-Tag:noindex
X-PUBLISHED-TTL:PT1H
BEGIN:VTIMEZONE
TZID:Europe/Berlin
BEGIN:DAYLIGHT
TZOFFSETFROM:+0100
TZOFFSETTO:+0200
TZNAME:CEST
DTSTART:20250330T010000
END:DAYLIGHT
BEGIN:STANDARD
TZOFFSETFROM:+0200
TZOFFSETTO:+0100
TZNAME:CET
DTSTART:20251026T010000
END:STANDARD
BEGIN:DAYLIGHT
TZOFFSETFROM:+0100
TZOFFSETTO:+0200
TZNAME:CEST
DTSTART:20260329T010000
END:DAYLIGHT
BEGIN:STANDARD
TZOFFSETFROM:+0200
TZOFFSETTO:+0100
TZNAME:CET
DTSTART:20261025T010000
END:STANDARD
BEGIN:DAYLIGHT
TZOFFSETFROM:+0100
TZOFFSETTO:+0200
TZNAME:CEST
DTSTART:20270328T010000
END:DAYLIGHT
BEGIN:STANDARD
TZOFFSETFROM:+0200
TZOFFSETTO:+0100
TZNAME:CET
DTSTART:20271031T010000
END:STANDARD
END:VTIMEZONE
BEGIN:VEVENT
DTSTART;TZID=Europe/Berlin:20260706T174500
DTEND;TZID=Europe/Berlin:20260706T214500
DTSTAMP:20260421T064503
CREATED:20260323T151014Z
LAST-MODIFIED:20260323T151014Z
UID:18285-1783359900-1783374300@alpenverein-baden-baden.de
SUMMARY:Basiskurs für Klettereinsteiger Topropekurs Teil1
DESCRIPTION:Topropekurs am 06.07.26.  Teil 1 & am 07.07.26 Teil 2 jeweils von 17:45 bis 21:45\nDer Basiskurs für Klettereinsteiger\nDer Kurs vermittelt die notwendige Sicherungskompetenz sowie Basisklettertechniken\, um sowohl Toprope sichern als auch klettern zu können. Nach erfolgreicher Durchführung erhalten die Teilnehmer einen Nachweis\, der sie auch zum Besuch in anderen Kletterhallen berechtigt.\nVorraussetzung: mindestens 14 Jahre\nKosten: 85€ für Sektionsmitglieder und 105€ für Nichtmitglieder \nAnmeldung ausschließlich über unser Kursbuchungssystem der Homepage https://alpenverein-baden-baden.de/kletterzentrum/hallenkurse/\noder per mail an kurse@alpenverein-baden-baden.de
URL:https://alpenverein-baden-baden.de/event/basiskurs-fuer-klettereinsteiger-topropekurs-teil1/
END:VEVENT
BEGIN:VEVENT
DTSTART;TZID=Europe/Berlin:20260707T174500
DTEND;TZID=Europe/Berlin:20260707T214500
DTSTAMP:20260421T064503
CREATED:20260323T151246Z
LAST-MODIFIED:20260323T151246Z
UID:18288-1783446300-1783460700@alpenverein-baden-baden.de
SUMMARY:Basiskurs für Klettereinsteiger Topropekurs Teil 2
DESCRIPTION:Topropekurs am 06.07.26.  Teil 1 & am 07.07.26 Teil 2 jeweils von 17:45 bis 21:45\nDer Basiskurs für Klettereinsteiger\nDer Kurs vermittelt die notwendige Sicherungskompetenz sowie Basisklettertechniken\, um sowohl Toprope sichern als auch klettern zu können. Nach erfolgreicher Durchführung erhalten die Teilnehmer einen Nachweis\, der sie auch zum Besuch in anderen Kletterhallen berechtigt.\nVorraussetzung: mindestens 14 Jahre\nKosten: 85€ für Sektionsmitglieder und 105€ für Nichtmitglieder \nAnmeldung ausschließlich über unser Kursbuchungssystem der Homepage https://alpenverein-baden-baden.de/kletterzentrum/hallenkurse/\noder per mail an kurse@alpenverein-baden-baden.de
URL:https://alpenverein-baden-baden.de/event/basiskurs-fuer-klettereinsteiger-topropekurs-teil-2-2/
END:VEVENT
BEGIN:VEVENT
DTSTART;TZID=Europe/Berlin:20260716T190000
DTEND;TZID=Europe/Berlin:20260716T220000
DTSTAMP:20260421T064503
CREATED:20251222T150958Z
LAST-MODIFIED:20251222T150958Z
UID:17701-1784228400-1784239200@alpenverein-baden-baden.de
SUMMARY:Vorstandssitzung
DESCRIPTION:
URL:https://alpenverein-baden-baden.de/event/vorstandssitzung-duplicate-2-2-2-2-2-2-2-2-2-2-2-2-4-2-2/
LOCATION:Sektionszentrum\, Flugstr. 17\, Baden-Baden
CATEGORIES:Vorstand
END:VEVENT
BEGIN:VEVENT
DTSTART;VALUE=DATE:20260717
DTEND;VALUE=DATE:20260718
DTSTAMP:20260421T064503
CREATED:20251222T154221Z
LAST-MODIFIED:20251222T154221Z
UID:17732-1784246400-1784332799@alpenverein-baden-baden.de
SUMMARY:Sommerfest 2026
DESCRIPTION:Einladung zum Grillabend \nab 17 Uhr am Sektionszentrum
URL:https://alpenverein-baden-baden.de/event/sommerfest-fuer-alle-aktiven-und-die-die-es-werden-wollen-3-2/
CATEGORIES:Vereinsleben
END:VEVENT
END:VCALENDAR